BEGIN:VCALENDAR
VERSION:2.0
PRODID:-//AKC Nama - ECPv6.14.2//NONSGML v1.0//EN
CALSCALE:GREGORIAN
METHOD:PUBLISH
X-ORIGINAL-URL:https://akcnama.org
X-WR-CALDESC:Dogodki za AKC Nama
REFRESH-INTERVAL;VALUE=DURATION:PT1H
X-Robots-Tag:noindex
X-PUBLISHED-TTL:PT1H
BEGIN:VTIMEZONE
TZID:UTC
BEGIN:STANDARD
TZOFFSETFROM:+0000
TZOFFSETTO:+0000
TZNAME:UTC
DTSTART:20240101T000000
END:STANDARD
END:VTIMEZONE
BEGIN:VEVENT
DTSTART;TZID=UTC:20241124T190000
DTEND;TZID=UTC:20241124T190000
DTSTAMP:20260422T131735
CREATED:20241020T110538Z
LAST-MODIFIED:20241114T091245Z
UID:21664-1732474800-1732474800@akcnama.org
SUMMARY:Collected Tales of Mi(s)s(ed)Fortune: 500 dni kasneje
DESCRIPTION:Instalacija Collected Tales of Mi(s)s(ed)Fortune: 500 dni kasneje je nastala na povabilo galerije de Appel v Amsterdamu. Avtorico so povabili\, da razstavi predstavo Collected Tales of Mi(s)s(ed)Fortune\, ki je bila pred tem na ogledu v galeriji. \nA kako razstaviti nekaj minljivega? Kako razstaviti predstavo? \nV večmedijski instalaciji Collected Tales of Mi(s)s(ed)Fortune: 500 dni kasneje umetnica s pomočjo intervjuvanja gledalcev razstavlja oziroma sestavlja spomin na predstavo 500 dni po njenem ogledu. \nAvtorica: Nina Jan\nKustosinja izvirne postavitve (de Appel): Renata Cervetto\nIntervjuvani gledalci: Tomaž Lunder\, Jasna Jan Sešek\, Sonja Porle\, Nives Lunder\, Vladka Jan\, Katja Bernik\, Tine Mlakar\, Urša Sekirnik\nProdukcija: de Appel (Amsterdam) in KUD NUM\, 2015 \nV sklopu dogodka bo na voljo tudi nova izdaja pesniške zbirke Collected Tales of Mi(s)s(ed)Fortune.
URL:https://akcnama.org/program/collected-tales-of-missedfortune-500-dni-kasneje-vecmedijska-instalacija-in-predstavitev-pesniske-zbirke-nine-jan/
CATEGORIES:Performans
ATTACH;FMTTYPE=image/jpeg:https://akcnama.org/wp-content/uploads/2024/10/mrbit2-e1729844645493.jpg
END:VEVENT
END:VCALENDAR