BEGIN:VCALENDAR
VERSION:2.0
PRODID:-//AKC Nama - ECPv6.14.2//NONSGML v1.0//EN
CALSCALE:GREGORIAN
METHOD:PUBLISH
X-ORIGINAL-URL:https://akcnama.org
X-WR-CALDESC:Dogodki za AKC Nama
REFRESH-INTERVAL;VALUE=DURATION:PT1H
X-Robots-Tag:noindex
X-PUBLISHED-TTL:PT1H
BEGIN:VTIMEZONE
TZID:Europe/Ljubljana
BEGIN:DAYLIGHT
TZOFFSETFROM:+0100
TZOFFSETTO:+0200
TZNAME:CEST
DTSTART:20250330T010000
END:DAYLIGHT
BEGIN:STANDARD
TZOFFSETFROM:+0200
TZOFFSETTO:+0100
TZNAME:CET
DTSTART:20251026T010000
END:STANDARD
END:VTIMEZONE
BEGIN:VEVENT
DTSTART;TZID=Europe/Ljubljana:20250523T190000
DTEND;TZID=Europe/Ljubljana:20250523T190000
DTSTAMP:20260422T204431
CREATED:20250428T072227Z
LAST-MODIFIED:20250428T072227Z
UID:22937-1748026800-1748026800@akcnama.org
SUMMARY:Pank slem poezija: A me kdo sliš?!
DESCRIPTION:Program:\nBrezčas(t)na gostja:\nLara Božak s predstavitvijo nove zbirke Kap lje kap lje  ! \nLara Božak se je rodila leta 1999 v Celju. Njeno ustvarjanje se giblje med poljema glasbe in poezije. Znotraj kitarsko vokalnega dua raziskuje presek kantavtorkse glasbe in jazza. S pisanjem se je začela resneje ukvarjati v času študija. Njene pesmi so bile objavljene v različnih literarnih revijah\, portalih in zbornikih\, na primer v revijah Mentor\, Spirala\, na portalih Vrabec Anarhist\, Koridor – Križišča umetnosti\, Locutio\, v almanahu mladih pesnic in pesnikov bog si ga drka na nas (Literarno društvo IA) ter so zazvenele v radijskem Literarnem nokturnu (RTV Slovenija\, Program ARS). \nPank slem poezija\nKakšna so pravila? Pravil ni.\nTukaj dobite prostor\, da izrazite svojo poezijo na kakršenkoli način – s pomočjo inštrumentov\, rekvizitov\, s kriki ali zgolj s svojimi kretnjami.\nMi te slišmo in te hočemo slišat.\nVsi nastopajoči bodo objavljeni v reviji Izločki Zine. Podprimo mlado nadubudno sceno! \nMozaik večera\nS skupnimi močmi bomo spesnili poezijo na katero bo Mojca Fo navezala svojo ilustracijo. \nPrijave zbiramo na amekdoslis@gmail.com\nV prijavi nam pošljite pesmi\, ki jih boste brali in inštrumente katere boste uporabili (če jih boste).
URL:https://akcnama.org/program/pank-slem-poezija-a-me-kdo-slis/
CATEGORIES:Literatura
ATTACH;FMTTYPE=image/jpeg:https://akcnama.org/wp-content/uploads/2025/04/pank-slem-fb.jpg
END:VEVENT
BEGIN:VEVENT
DTSTART;TZID=Europe/Ljubljana:20250524T100000
DTEND;TZID=Europe/Ljubljana:20250524T100000
DTSTAMP:20260422T204431
CREATED:20250428T072840Z
LAST-MODIFIED:20250428T072840Z
UID:22940-1748080800-1748080800@akcnama.org
SUMMARY:Pripovedovalska šola z Ano Dušo
DESCRIPTION:Pripovedovalska šola se osredotoča na različne aspekte pripovedovanja\, tako odrskega kot tudi aplikativnega\, pri katerem je pripoved uporabljena zgolj kot sredstvo v pedagoških\, integracijskih\, rehabilitacijskih ipd. procesih. Metodologija izhaja iz obstoječih pripovedovalskih praks na eni ter elementov fizičnega gledališča na drugi strani. Posvečali se bomo vsem korakom od izbora zgodbe do končne prezentacije (obdelava in priprava zgodbe za oder ter odrske veščine\, ki jih potrebuje pripovedovalec (odrska prezenca\, glas\, dikcija). \nAna Duša (1978) je na oddelku za primerjalno književnost in literarno teorijo FF UL diplomirala iz začetkov evropske literarne pravljice oz. zbirke Zgodba zgodb italijanskega avtorja Giambattista Basila\, ki jo je kasneje (2022) tudi prevedla v sodelovanju z Ireno Duša Draž ter zanjo napisala spremno študijo. S pravljico se ukvarja od leta 2002 dalje\, ko se je priključila kolektivu Za dva groša fantazije na Radiu Študent (kot so-redaktorica\, so-avtorica oddaj in pripovedovalka). Od leta 2010 dalje vodi Pripovedovalsko šolo Pripovedovalskega Varieteja\, ki se osredotoča na ljudsko pravljico. Kot avtorica besedil in songov ter prevajalka se pojavlja predvsem v gledališču\, pravljice pa je začela pisati leta 2016 na povabilo ekipe Lahkonočnic. Med leti 2015 in 2018 je bila članica izvršnega odbora mreže evropskih pripovedovalskih organizacij FEST in mednarodnega pripovedovalskega laboratorija pod vodstvom francoskega pripovedovalca Abbija Patrixa. \nPrijave sprejemamo do zapolnitve mest na drustvograble@gmail.com.
URL:https://akcnama.org/program/pripovedovalska-sola-z-ano-duso/
CATEGORIES:Literatura
ATTACH;FMTTYPE=image/jpeg:https://akcnama.org/wp-content/uploads/2025/04/B-pripovedovalska-sola-fb-1.jpg
END:VEVENT
BEGIN:VEVENT
DTSTART;TZID=Europe/Ljubljana:20250525T100000
DTEND;TZID=Europe/Ljubljana:20250525T100000
DTSTAMP:20260422T204431
CREATED:20250428T073005Z
LAST-MODIFIED:20250428T073005Z
UID:22944-1748167200-1748167200@akcnama.org
SUMMARY:Pripovedovalska šola z Ano Dušo
DESCRIPTION:Pripovedovalska šola se osredotoča na različne aspekte pripovedovanja\, tako odrskega kot tudi aplikativnega\, pri katerem je pripoved uporabljena zgolj kot sredstvo v pedagoških\, integracijskih\, rehabilitacijskih ipd. procesih. Metodologija izhaja iz obstoječih pripovedovalskih praks na eni ter elementov fizičnega gledališča na drugi strani. Posvečali se bomo vsem korakom od izbora zgodbe do končne prezentacije (obdelava in priprava zgodbe za oder ter odrske veščine\, ki jih potrebuje pripovedovalec (odrska prezenca\, glas\, dikcija). \nAna Duša (1978) je na oddelku za primerjalno književnost in literarno teorijo FF UL diplomirala iz začetkov evropske literarne pravljice oz. zbirke Zgodba zgodb italijanskega avtorja Giambattista Basila\, ki jo je kasneje (2022) tudi prevedla v sodelovanju z Ireno Duša Draž ter zanjo napisala spremno študijo. S pravljico se ukvarja od leta 2002 dalje\, ko se je priključila kolektivu Za dva groša fantazije na Radiu Študent (kot so-redaktorica\, so-avtorica oddaj in pripovedovalka). Od leta 2010 dalje vodi Pripovedovalsko šolo Pripovedovalskega Varieteja\, ki se osredotoča na ljudsko pravljico. Kot avtorica besedil in songov ter prevajalka se pojavlja predvsem v gledališču\, pravljice pa je začela pisati leta 2016 na povabilo ekipe Lahkonočnic. Med leti 2015 in 2018 je bila članica izvršnega odbora mreže evropskih pripovedovalskih organizacij FEST in mednarodnega pripovedovalskega laboratorija pod vodstvom francoskega pripovedovalca Abbija Patrixa. \nPrijave sprejemamo do zapolnitve mest na drustvograble@gmail.com.
URL:https://akcnama.org/program/pripovedovalska-sola-z-ano-duso-2/
CATEGORIES:Literatura
ATTACH;FMTTYPE=image/jpeg:https://akcnama.org/wp-content/uploads/2025/04/B-pripovedovalska-sola-fb-1.jpg
END:VEVENT
BEGIN:VEVENT
DTSTART;TZID=Europe/Ljubljana:20250531T100000
DTEND;TZID=Europe/Ljubljana:20250531T100000
DTSTAMP:20260422T204431
CREATED:20250428T073052Z
LAST-MODIFIED:20250428T073111Z
UID:22946-1748685600-1748685600@akcnama.org
SUMMARY:Pripovedovalska šola z Ano Dušo
DESCRIPTION:Pripovedovalska šola se osredotoča na različne aspekte pripovedovanja\, tako odrskega kot tudi aplikativnega\, pri katerem je pripoved uporabljena zgolj kot sredstvo v pedagoških\, integracijskih\, rehabilitacijskih ipd. procesih. Metodologija izhaja iz obstoječih pripovedovalskih praks na eni ter elementov fizičnega gledališča na drugi strani. Posvečali se bomo vsem korakom od izbora zgodbe do končne prezentacije (obdelava in priprava zgodbe za oder ter odrske veščine\, ki jih potrebuje pripovedovalec (odrska prezenca\, glas\, dikcija). \nAna Duša (1978) je na oddelku za primerjalno književnost in literarno teorijo FF UL diplomirala iz začetkov evropske literarne pravljice oz. zbirke Zgodba zgodb italijanskega avtorja Giambattista Basila\, ki jo je kasneje (2022) tudi prevedla v sodelovanju z Ireno Duša Draž ter zanjo napisala spremno študijo. S pravljico se ukvarja od leta 2002 dalje\, ko se je priključila kolektivu Za dva groša fantazije na Radiu Študent (kot so-redaktorica\, so-avtorica oddaj in pripovedovalka). Od leta 2010 dalje vodi Pripovedovalsko šolo Pripovedovalskega Varieteja\, ki se osredotoča na ljudsko pravljico. Kot avtorica besedil in songov ter prevajalka se pojavlja predvsem v gledališču\, pravljice pa je začela pisati leta 2016 na povabilo ekipe Lahkonočnic. Med leti 2015 in 2018 je bila članica izvršnega odbora mreže evropskih pripovedovalskih organizacij FEST in mednarodnega pripovedovalskega laboratorija pod vodstvom francoskega pripovedovalca Abbija Patrixa. \nPrijave sprejemamo do zapolnitve mest na drustvograble@gmail.com.
URL:https://akcnama.org/program/pripovedovalska-sola-z-ano-duso-3/
CATEGORIES:Literatura
ATTACH;FMTTYPE=image/jpeg:https://akcnama.org/wp-content/uploads/2025/04/B-pripovedovalska-sola-fb-1.jpg
END:VEVENT
END:VCALENDAR