BEGIN:VCALENDAR
VERSION:2.0
PRODID:-//AKC Nama - ECPv6.14.2//NONSGML v1.0//EN
CALSCALE:GREGORIAN
METHOD:PUBLISH
X-ORIGINAL-URL:https://akcnama.org
X-WR-CALDESC:Dogodki za AKC Nama
REFRESH-INTERVAL;VALUE=DURATION:PT1H
X-Robots-Tag:noindex
X-PUBLISHED-TTL:PT1H
BEGIN:VTIMEZONE
TZID:Europe/Ljubljana
BEGIN:DAYLIGHT
TZOFFSETFROM:+0100
TZOFFSETTO:+0200
TZNAME:CEST
DTSTART:20250330T010000
END:DAYLIGHT
BEGIN:STANDARD
TZOFFSETFROM:+0200
TZOFFSETTO:+0100
TZNAME:CET
DTSTART:20251026T010000
END:STANDARD
END:VTIMEZONE
BEGIN:VTIMEZONE
TZID:UTC
BEGIN:STANDARD
TZOFFSETFROM:+0000
TZOFFSETTO:+0000
TZNAME:UTC
DTSTART:20250101T000000
END:STANDARD
END:VTIMEZONE
BEGIN:VEVENT
DTSTART;TZID=Europe/Ljubljana:20250208T190000
DTEND;TZID=Europe/Ljubljana:20250208T190000
DTSTAMP:20260424T143201
CREATED:20250122T100708Z
LAST-MODIFIED:20250122T101236Z
UID:22740-1739041200-1739041200@akcnama.org
SUMMARY:Pesem. Prvič.
DESCRIPTION:Glasbeno – literarni dogodek\, namenjen vsem\, ki vas take stvari zanimajo in veselijo. \nSvoja avtorska dela bodo brali: \n– Liza Kokole\n– Sven Tomaško\n– Neža Ambrožič\n– Tim Butara\n– Lara Gea Vurnik\n– Iva Miholić\n– Josip Kramar \nZa glasbene točke pa bodo\, prav tako z avtorskimi deli\, poskrbeli: \n– Tim Butara\n– Gašper Pesek\n– Jure Bajt \nNavzlic temu\, da smo se z dogodkom ugnezdili v državni praznik\, ne bo to nikakršna fensi šmensi ceremonija\, zato lahko zakmašne obleke pustite v omari in pridete tako\, da vam bo komot. Dogodek je zastonjske narave\, bomo pa zbirali prostovoljne prispevke\, ki bodo v celoti namenjeni AKC Nama! \nVabljeni vsi!
URL:https://akcnama.org/program/pesem-prvic/
CATEGORIES:Literatura
ATTACH;FMTTYPE=image/jpeg:https://akcnama.org/wp-content/uploads/2025/01/pesmi-fb.jpg
END:VEVENT
BEGIN:VEVENT
DTSTART;TZID=UTC:20250221T190000
DTEND;TZID=UTC:20250221T190000
DTSTAMP:20260424T143201
CREATED:20250122T104253Z
LAST-MODIFIED:20250122T104253Z
UID:22757-1740164400-1740164400@akcnama.org
SUMMARY:Predstavitev knjige "Kukavičji mladič"
DESCRIPTION:Kukavičji mladič (ar. فرخ الوقواق) je avtobiografski roman o begunski poti Mohamada Abdula Monaema iz Sirije v Slovenijo\, kjer trenutno tudi živi. Sirski založnik\, pesnik in pisatelj palestinskega rodu z izredno tenkočutnim\, skorajda pesniškim jezikom popisuje etape svojega potovanja\, srečanja in spoznanja na poti\, ki se prepletajo z refleksijami o družbeno-politični situaciji v Siriji in o tem\, kaj sploh pomeni bežati v neznano. Delo je napisano v arabskem izvirniku\, a je najprej izšlo v slovenskem prevodu.  \nZ avtorjem knjige Mohamadom Abdulom Monaemom se bo pogovarjala Petra Čičić.
URL:https://akcnama.org/program/predstavitev-knjige-kukavicji-mladic/
CATEGORIES:Literatura
ATTACH;FMTTYPE=image/jpeg:https://akcnama.org/wp-content/uploads/2025/01/unnamed-1.jpg
END:VEVENT
END:VCALENDAR