BEGIN:VCALENDAR
VERSION:2.0
PRODID:-//AKC Nama - ECPv6.14.2//NONSGML v1.0//EN
CALSCALE:GREGORIAN
METHOD:PUBLISH
X-WR-CALNAME:AKC Nama
X-ORIGINAL-URL:https://akcnama.org
X-WR-CALDESC:Dogodki za AKC Nama
REFRESH-INTERVAL;VALUE=DURATION:PT1H
X-Robots-Tag:noindex
X-PUBLISHED-TTL:PT1H
BEGIN:VTIMEZONE
TZID:UTC
BEGIN:STANDARD
TZOFFSETFROM:+0000
TZOFFSETTO:+0000
TZNAME:UTC
DTSTART:20240101T000000
END:STANDARD
END:VTIMEZONE
BEGIN:VEVENT
DTSTART;TZID=UTC:20241115T190000
DTEND;TZID=UTC:20241115T190000
DTSTAMP:20260424T190728
CREATED:20241020T104218Z
LAST-MODIFIED:20241025T060058Z
UID:21648-1731697200-1731697200@akcnama.org
SUMMARY:Poezija v mestu: pre_več / knjiga poezije na koži
DESCRIPTION:Dejan Koban je pesnik\, založnik\, aktivist in montažer. Njegov najbolj prepoznaven projekt je založba Črna skrinjica\, v katero povezuje vrsto izjemnih pesnic in pesnikov. Koban je človek skupnosti in eden redkih\, ki brezkompromisno zastopa borce za boljšo družbo in mesto poezije v njej. Lani je pri založbi Goga izšla njegova knjiga poezije na koži Pre_več\, antologija verzov 49 pesnikov in pesnic\, prevedenih v štiri jezike. \nKoža je največji organ pri človeku. Koban svojo sistematično in premišljeno spreminja v verze.  Kdor hoče srečati človeka\, ki mu je poezija pisana na kožo\, naj pride na Poezijo v mestu. Na voljo bodo tudi knjige poezije na koži Pre_več in zbirke založbe Črna skrinjica. \nPogovarjala se bosta Dejan Koban in Anja Eržen.
URL:https://akcnama.org/program/poezija-v-mestu-pre_vec-knjiga-poezije-na-kozi-2/
CATEGORIES:Literatura
ATTACH;FMTTYPE=image/jpeg:https://akcnama.org/wp-content/uploads/2024/10/Koban-pre_vec-1-e1729843243466.jpg
END:VEVENT
BEGIN:VEVENT
DTSTART;TZID=UTC:20241122T190000
DTEND;TZID=UTC:20241122T190000
DTSTAMP:20260424T190728
CREATED:20241020T105407Z
LAST-MODIFIED:20241025T062639Z
UID:21656-1732302000-1732302000@akcnama.org
SUMMARY:Predstavitev knjige "Tega se ne da izbrisati"
DESCRIPTION:Šestindvajsetega februarja 1992 je Demosova vlada samovoljno\, protizakonito in na skrivaj iz registra stalnih prebivalcev izbrisala 25.671 ljudi. Posledice tega dejanja so občutene še danes\, so transgeneracijske in transrazredne. Kako jih doživljajo izbrisani? To je vprašanje\, s katerim se je v knjigi Tega se ne da izbrisati ukvarjal avtor Andraž Rožman. \nPri pisanju se je zgledoval po ruski nobelovki Svetlani Aleksijevič\, ki je govorila\, da pripoveduje zgodovino skozi čustva. Podobno želi početi Rožman\, ki pravi\, da ni hotel dati besede spet tako imenovanim levim ali desnim osamosvojiteljem\, ampak žrtvam njihovih dejanj. K pripovedim izbrisanih je dodal še deset zgodb neizbrisanih prebivalcev\, skozi katere ga je vodilo vprašanje »Zakaj z izjemo peščice aktivistov nismo ničesar storili\, ko bi morali nekaj storiti?«. \nZ avtorjem knjige Andražem Rožmanom in aktivistom Irfanom Beširevićem se bo pogovarjala Petra Čičić.
URL:https://akcnama.org/program/predstavitev-knjige-tega-se-ne-da-izbrisati-pogovor-z-avtorjem-andrazem-rozmanom-in-aktivistom-irfanom-besirevicem/
CATEGORIES:Literatura
ATTACH;FMTTYPE=image/jpeg:https://akcnama.org/wp-content/uploads/2024/10/Goga-Rozman-Tega-se-ne-da-izbrisati-naslovnica-scaled-3-scaled-e1729844788341.jpg
END:VEVENT
BEGIN:VEVENT
DTSTART;TZID=UTC:20241130T190000
DTEND;TZID=UTC:20241130T190000
DTSTAMP:20260424T190728
CREATED:20241020T113258Z
LAST-MODIFIED:20241025T050725Z
UID:21679-1732993200-1732993200@akcnama.org
SUMMARY:Zapišno branje in vasovanje ob izdaji skupne knjige
DESCRIPTION:Ljubitelji sukanja peresa in jezika\, zbrani okrog entitete po imenu Zapiš\, bodo na dogodku podelili svoja literarna ustvarjanja\, zbrana v sveže izdani knjigi. Prebrali bodo nekaj svojih pesmi\, kratkih zgodb\, tudi nekaj poglavij nastajajočih romanov. Ob muziki\, vinu in hrani bomo pogostili muze literature\, da bodo obilno in radodarno še naprej delile navdih.
URL:https://akcnama.org/program/zapisno-branje-in-vasovanje-ob-izdaji-skupne-knjige/
CATEGORIES:Literatura
ATTACH;FMTTYPE=image/jpeg:https://akcnama.org/wp-content/uploads/2024/10/topcina-e1729841586479.jpg
END:VEVENT
END:VCALENDAR