BEGIN:VCALENDAR
VERSION:2.0
PRODID:-//AKC Nama - ECPv6.14.2//NONSGML v1.0//EN
CALSCALE:GREGORIAN
METHOD:PUBLISH
X-WR-CALNAME:AKC Nama
X-ORIGINAL-URL:https://akcnama.org
X-WR-CALDESC:Dogodki za AKC Nama
REFRESH-INTERVAL;VALUE=DURATION:PT1H
X-Robots-Tag:noindex
X-PUBLISHED-TTL:PT1H
BEGIN:VTIMEZONE
TZID:Europe/Ljubljana
BEGIN:DAYLIGHT
TZOFFSETFROM:+0100
TZOFFSETTO:+0200
TZNAME:CEST
DTSTART:20250330T010000
END:DAYLIGHT
BEGIN:STANDARD
TZOFFSETFROM:+0200
TZOFFSETTO:+0100
TZNAME:CET
DTSTART:20251026T010000
END:STANDARD
END:VTIMEZONE
BEGIN:VTIMEZONE
TZID:UTC
BEGIN:STANDARD
TZOFFSETFROM:+0000
TZOFFSETTO:+0000
TZNAME:UTC
DTSTART:20250101T000000
END:STANDARD
END:VTIMEZONE
BEGIN:VEVENT
DTSTART;TZID=Europe/Ljubljana:20251106T200000
DTEND;TZID=Europe/Ljubljana:20251106T230000
DTSTAMP:20260421T114157
CREATED:20250917T105625Z
LAST-MODIFIED:20250917T110009Z
UID:23146-1762459200-1762470000@akcnama.org
SUMMARY:Koncert: LIKANE LEPPÄNE
DESCRIPTION:Likane Leppäne je finski glasbenik\, ki izvaja surov noise rap devil shit\, namenjen priklicu nezemeljskih sil iz smrdečih kanalizacijskih cevi Ouluja na severu Finske. Ali kot so zapisali v najavi njegovega koncerta na Češkem: Nekje na jugu Finske en nihilistični tip seka drva. Seka jih besno\, a natančno – ponoči sede za mašino\, kjer sestavlja beate in presenetljivo sanjari o memphiškem zvoku. Hi-hati in sinti zvenijo kot Three 6 Mafia v časovno-prostorskem portalu oz. kot da bi jih punkslator premetal v surovo finščino in punkerski etos. \nPoslušalnica: \nLikane Leppäne
URL:https://akcnama.org/program/koncert-likane-leppane/
CATEGORIES:Godba
ATTACH;FMTTYPE=image/jpeg:https://akcnama.org/wp-content/uploads/2025/09/Likane_Fb-2.jpg
END:VEVENT
BEGIN:VEVENT
DTSTART;TZID=UTC:20251107T190000
DTEND;TZID=UTC:20251107T230000
DTSTAMP:20260421T114157
CREATED:20251026T062255Z
LAST-MODIFIED:20251026T062255Z
UID:23225-1762542000-1762556400@akcnama.org
SUMMARY:Jamarjenje po loško #8
DESCRIPTION:Se neprestano spuščaš po zmedenih pobočjih jazza\, rocka in še česa\, pa se vedno znova brez svetilke znajdeš v brezizhodnih luknjah? Brez skrbi. Imamo luč. In vso opremo. Pridi se pokazat\, pridi kej odšpilat! \nNe rabiš predhodnega znanja na inštrumentih. Ne rabiš teoretične podlage. Ne rabiš praktične podlage. Ne rabiš ideje in ne rabiš komadov. Če jih nimaš pri roki\, ne rabiš niti inštrumenta. Imamo mikrofone. Imamo bobne. Imamo kitare\, bas in sintič. Rabimo še tebe. Prineseš\, kar želiš: obvezno je zgolj to\, da brezkompromisno godeš in muziciraš po svoje. \nSe vidimo!
URL:https://akcnama.org/program/jamarjenje-po-losko-8/
CATEGORIES:Godba
ATTACH;FMTTYPE=image/jpeg:https://akcnama.org/wp-content/uploads/2025/10/jam-7.11.2025-1920x1005-1.jpg
ORGANIZER;CN="AKC Nama":MAILTO:program@akcnama.org
END:VEVENT
BEGIN:VEVENT
DTSTART;TZID=Europe/Ljubljana:20251108T200000
DTEND;TZID=Europe/Ljubljana:20251108T230000
DTSTAMP:20260421T114157
CREATED:20250819T103853Z
LAST-MODIFIED:20251026T061106Z
UID:23098-1762632000-1762642800@akcnama.org
SUMMARY:Koncert: heavenphetamine + Time Keeper
DESCRIPTION:heavenphetamine je japonski duo\, ki ga sestavljata Hiroki Oda (klaviature/vokal) in Sara Oda (bobni/vokal). Njuno samosvojo glasbeno estetiko zaznamujejo elementi krautrocka\, psihedelije\, post-punka\, indie rocka in acid housea\, ki jih spremljajo melodične vokalne linije v japonščini. \nTime Keeper je funk rock trio iz kreativne cone Vrtojba na Goriškem\, ki skupaj raziskuje in ustvarja preprosto in udarno\, a hkrati nepredvidljivo plesno glasbo. Skozi njihov moderni pridih ritmične retroestetike je moč prepoznati vrsto žanrov\, ki so bili ključni del zahodnjaške glasbe druge polovice 20. stoletja. \nDogodek poteka v sodelovanju z Inverted Spectrum Records. \nPoslušalnica: \nheavenphetamine\nTime Keeper
URL:https://akcnama.org/program/koncert-heavenphetamine-time-keeper/
CATEGORIES:Godba
ATTACH;FMTTYPE=image/jpeg:https://akcnama.org/wp-content/uploads/2025/08/japanac.jpg
END:VEVENT
BEGIN:VEVENT
DTSTART;TZID=Europe/Ljubljana:20251121T190000
DTEND;TZID=Europe/Ljubljana:20251121T230000
DTSTAMP:20260421T114157
CREATED:20251026T071159Z
LAST-MODIFIED:20251030T050005Z
UID:23240-1763751600-1763766000@akcnama.org
SUMMARY:Razstava: Neža Bobnar (Od korenine do stopala) + Koncert: tachyon
DESCRIPTION:O razstavi: \n(besedilo v nastajanju) \nNeža Bobnar je študentka 4. letnika likovne pedagogike na Pedagoški fakulteti. Umetnost jo je pritegnila že kot otroka\, zato ji je kot druga narava. Trenutno se ukvarja z različnimi mediji in tehnikami umetnosti\, nostalgije\, dihotimij življenja in opazovanja naravnih procesov. \nO koncertu: \ntachyon je pravljičar eteričnih\, a divjih atmosfer IDMa in breakbeata\, ki s toplino in čustveno iskrenostjo vstopa v liminalni svet hipotetične elektronike. Njegova glasba je polna evforije in vesele naivnosti\, kot tudi žalosti in prelitih solz. Je glasba vsakdana za raztezanje časa nekje med domačo spalnico in klubom\, zakopana v podrast iskanja samega sebe. V svojem liminalnem svetu čustveno tople glasbe izvabljene iz hladnih računalnikov\, umetnik živi skozi pravljične karakterje kontemplativnega čarodeja\, zaljubljenega geeka in osvoboditelja vrtnih palčkov. Katerikoli obraz nam že kaže\, je s kompanijo počlovečenih čipov Tachyon nesporno eden najunikatnejših regionalnih elektronskih avtorjev mlajše generacije – kar so prepoznali tudi na Radiu Študent s povabilom na Klubski maraton 2023. Trenutno Tachyon pripravlja svoj četrti album\, ki bo izšel 31.10. 2025 pri avdiovizualni založbi P-A-G-A-T. \nDogodek je brezplačen\, prostovoljni prispevki za nastopajoče zelo zaželjeni. \nPoslušalnica: \ntachyon \nDogodek poteka v okviru ‘Galerije Klatež’\, ki jo podpira in sofinancira JSKD – Javni sklad za kulturne dejavnosti.
URL:https://akcnama.org/program/razstava-neza-bobnar-od-korenine-do-stopala-koncert-tachyon/
CATEGORIES:Godba
ATTACH;FMTTYPE=image/jpeg:https://akcnama.org/wp-content/uploads/2025/10/Razstava_Fb.jpg
END:VEVENT
BEGIN:VEVENT
DTSTART;TZID=Europe/Ljubljana:20251127T200000
DTEND;TZID=Europe/Ljubljana:20251127T230000
DTSTAMP:20260421T114157
CREATED:20251028T174345Z
LAST-MODIFIED:20251125T051147Z
UID:23261-1764273600-1764284400@akcnama.org
SUMMARY:Koncert: Kvelvane/Elnan + Shoe & Shoelace
DESCRIPTION:Kvelvane/Elnan je duet\, izhajajoč iz skandinavske svobodnjaške jazzovske tradicije\, ki ga sestavljata saksofonistka Heidi Kvelvane in kontrabasist Johannes Elnan. \nShoe & Shoelace je dvojec prekaljenega tolkalca\, elektrofonika\, skladatelja in improvizatorja Jake Bergerja in nekoliko mlajšega saksofonista in klarinetista Jureta Boršiča. \nVeč o nastopajočih: \nHEIDI KVELVANE\nHeidi Kvelvane je saksofonistka\, ki je diplomirala na Akademiji Grieg v Bergnu. Kot impulzivna in podjetna glasbenica se je v zadnjih letih uveljavila na norveški improvizacijski sceni. To je privedlo do sodelovanj z legendarnimi improvizatorji\, kot so Barry Guy\, Per Zanussi\, Terrie (Hessels) Ex\, Han Bennink\, Paal Nilssen-Love in Bugge Wesseltoft. Heidi sodeluje tudi z Bergen Big Bandom\, Kitchen Orchestra in Vestnorsk Jazzensemble\, ima pa tudi lastne projekte\, kot sta Bankvelv in njen lastni trio. \nJOHANNES ELNAN\nJohannes Elnan je star 22 let in ambiciozen basist\, ki biva in ustvarja v Oslu. Leta 2024 je diplomiral na akademiji v Trondheimu. V zadnjem času pridobiva pozornost zaradi svojih prepričljivih solo koncertov\, pa tudi zaradi uspešnih sodelovanj z glasbeniki\, kot so Paal Nilssen-Love\, Tobias Delius\, Amalie Dahl\, Gilbert Holström\, Ketija Ringa\, Per Texas Johansson\, Fredrik Ljungkvist in Lisa Ullén … \nJAKA BERGER\nJaka Berger je eden najdejavnejših\, najbolj ustvarjalnih in raznolikih bobnarjev\, tolkalcev\, skladateljev in improvizatorjev na slovenski glasbeni krajini v zadnjih petnajstih letih. Leta 2006 je posnel prvenec za italijansko založbo Splasch Records. Od leta 2014 do danes pripravlja glasbo za prepariran komplet bobnov\, s katerim redno izdaja solistična dela\, ki so redno objavljana v mednarodnih publikacijah za improvizirano glasbo. V letu 2013 je bil performer gledališke uspešnice Gremo Vsi! v režiji Mareta Bulca . Redno razvija eksperimentalni projekt Partija z vizualnim umetnikom Matejem Stupico ter koncertira s skupino Darla Smoking. V letu 2015 je izdal ploščo kompozicije Treatise skladatelja Corneliusa Cardewa. V letu 2016 je izvedel svoje najzahtevnejše avtorsko delo\, kompozicijo za desetčlanski orkester Tentet slišnega življenskega toka. Leta 2019 je izdal ploščo posvečeno skladatelju Mortonu Feldmanu v sodelovanju s pisanistom Dejanom Berdenom ter izdal plošči z zasedbama Bootleg Unit trio in Fresh Dust trio za britansko založbo FMR Records. Plošča Fresh dust trio s pianistko Marino Džukljev in kitaristom Samom Šalamonom\, je bila označena kot plošča leta 2019 po mnenju portala za improvizirano glasbo Centralala. Od leta 2020 se ponovno aktivno ukvarja s kompozicijo Treatise (Razprava) skladatelja Corneliusa Cardewa\, posnel je ploščo Breakfast with Cardew\, ki je požela odlične mednarodne kritike. V letu 2021 pa je po dveh letih aktivnega sodelovanja s slovenskimi neodvisnimi pesniki in pesnicami izdal knjigo zvočnih prevodov Poetrix. V zadnjih letih je izvajal tolkalske in glasbeno improvizacijske delavnice ter redno inštruira tolkala. Svoje znanje in iskušnje redno dopolnjuje z različnimi glasbeniki in improvizatorji iz celega sveta\, ter razširja koncept delavnic v široko kolektivno ustvarjanje na podlagi improvizacije in komunikacije. S tem glasbo vmešča v naš vsakdan in preko nje uči in spodbuja odnose\, ki temeljijo na poslušanju\, odzivanju\, sobivanju ter sodelovanju. \nJURE BORŠIČ\nJure Boršič je slovenski saksofonist in klarinetist mlajše generacije. Nekaj let je deloval kot del šole Kombo Zlatka Kaučiča in goji zanimanje za raznovrstne glasbene sloge in zvrsti\, segajoč od improvizirane glasbe\, free jazza in elektroakustične glasbe do noisa in eksperimentalnega metala\, sodeluje pa tudi s poezijo in plesalci. Bil je član številnih slovenskih alternativnih glasbenih skupin\, kot improvizator pa si je oder delil s priznanimi umetniki kot so Elisabeth Harnik\, Jasper Stadhouders\, Timothee Quost\, Tomaž Grom\, Antti Virtaranta\, Marina Đukljev\, Jaka Berger\, Diego Caicedo\, Cene Resnik in Samo Kutin. Sodeluje tudi v organizacijskih ekipah koncertov serij Fri-Fru-Fra v rodni Novi Gorici in Taktišče v Ljubljani. \nPoslušalnica: \nShoe & Shoelace
URL:https://akcnama.org/program/koncert-kvelvane-elnan-shoe-shoelace/
CATEGORIES:Godba
ATTACH;FMTTYPE=image/jpeg:https://akcnama.org/wp-content/uploads/2025/10/Kvelvane_Shoelace_Insta.jpg
END:VEVENT
END:VCALENDAR