BEGIN:VCALENDAR
VERSION:2.0
PRODID:-//AKC Nama - ECPv6.14.2//NONSGML v1.0//EN
CALSCALE:GREGORIAN
METHOD:PUBLISH
X-ORIGINAL-URL:https://akcnama.org
X-WR-CALDESC:Dogodki za AKC Nama
REFRESH-INTERVAL;VALUE=DURATION:PT1H
X-Robots-Tag:noindex
X-PUBLISHED-TTL:PT1H
BEGIN:VTIMEZONE
TZID:Europe/Ljubljana
BEGIN:DAYLIGHT
TZOFFSETFROM:+0100
TZOFFSETTO:+0200
TZNAME:CEST
DTSTART:20250330T010000
END:DAYLIGHT
BEGIN:STANDARD
TZOFFSETFROM:+0200
TZOFFSETTO:+0100
TZNAME:CET
DTSTART:20251026T010000
END:STANDARD
END:VTIMEZONE
BEGIN:VEVENT
DTSTART;TZID=Europe/Ljubljana:20251004T200000
DTEND;TZID=Europe/Ljubljana:20251004T230000
DTSTAMP:20260421T125715
CREATED:20250819T101955Z
LAST-MODIFIED:20250916T111812Z
UID:23082-1759608000-1759618800@akcnama.org
SUMMARY:Klubski maraton RŠ: Gregorov + Mrk
DESCRIPTION:Gregorov je pank\, ki ni več jezen\, ampak samo še lucidno razočaran. Razpoke sive notranjosti bruhajo eksistencialno krizo kot mantro izgubljene generacije zavoženega sistema. Bend se v distorziranih melanholičnih melodijah upira apatiji\, propadlim mestom in sobotni depresiji. Gregorov so poročilo z roba\, sivi žarek\, ki prepušča prostor za upanje. Dobrodošli na pokopališču ambicij\, kjer nihče ne kleklja\, le s plašči poplesuje na postpankovske melodije.  \nČlani: \nGregor Kacin – vokalist\, kitarist\, pisec besedilAlen Bogataj – basistJan Pivk – kitaristPegam Podobnik – bobnarRok Horžen – kitarist \nMRK je medžanrska posadka\, ki s krmarjem Gajem Bostičem raziskuje nebesne pojave. Razmišlja onkraj meja zemeljskega\, onkraj jazzovskega\, materijo črpa iz prostranstva in oddaja širok glasbeni spekter. Moderna fuzija kontrastov\, ki je še posebej čarobna\, ko doseže totalnost.\n\nČlani:\nGaj Bostič – bobnar\, semplašJordi Roviro – trobentarJošt Lampret – basistMark Žakelj – kitaristMaximilian Gerstbach – klaviaturistYvonne Moriel – saksofonistka\n\n\nPoslušalnica: \nGregorov\nMRK
URL:https://akcnama.org/program/klubski-maraton-rs-gregorov-mrk/
CATEGORIES:Godba
ATTACH;FMTTYPE=image/jpeg:https://akcnama.org/wp-content/uploads/2025/08/akcnamakm.jpg
END:VEVENT
BEGIN:VEVENT
DTSTART;TZID=Europe/Ljubljana:20251010T200000
DTEND;TZID=Europe/Ljubljana:20251010T230000
DTSTAMP:20260421T125715
CREATED:20250819T102917Z
LAST-MODIFIED:20250916T112831Z
UID:23089-1760126400-1760137200@akcnama.org
SUMMARY:Koncert: Šumski + One Cupcake Away
DESCRIPTION:Šumski je kultna zagrebška zasedba\, ki jo zaznamuje izjemna izvirnost in pikantna mešanica raznovrstnih glasbenih stilov\, vključno s kraut rockom\, glasbami sveta\, novim valom\, glasbo iz risank\, avantgardnim popom in elektroniko. Za ljubitelje Blurt\, Can\, Captaina Beefhearta\, Faust in Haustor. \nOne Cupcake Away je koprski kvartet\, ki se pod veliko marelo psihadeličnega rocka brezsramno spogleduje s funkom\, stonerjem\, elektronsko glasbo\, tranceom\, punkom\, space funkom in še marsičem. \nPoslušalnica: \nŠumski\nOne Cupcake Away
URL:https://akcnama.org/program/koncert-sumski-onecupcake-away/
CATEGORIES:Godba
ATTACH;FMTTYPE=image/jpeg:https://akcnama.org/wp-content/uploads/2025/08/Sumski.jpg
END:VEVENT
BEGIN:VEVENT
DTSTART;TZID=Europe/Ljubljana:20251014T200000
DTEND;TZID=Europe/Ljubljana:20251014T230000
DTSTAMP:20260421T125715
CREATED:20250819T103432Z
LAST-MODIFIED:20250819T103432Z
UID:23094-1760472000-1760482800@akcnama.org
SUMMARY:Koncert: Onyon + Drhal
DESCRIPTION:Onyon je leipziški kvartet\, ki ga pod trdno (synth) postpankovsko marelo zaznamujejo hektični\, trgani ritmi\, ostri kitarski zvoki in dokaj minimalistične kompozicije v slogu garažnega rocka iz 60. let. Mid tempo cold punk. Za ljubitelje bendov kot so Androids of Mu\, Devo\, LiLiPUT. \nDrhal o sebi pravijo takole »Fakof disko pičke! Mi smo Drhal\, smo shit pank bend iz Ljubljane\, ki si brutalno želi zvenet\, kot da smo zlezli iz plesnive kleti (kjer tudi vadimo).« Za ljubitelje bendov kot so Čao Pičke\, Tožibabe. \nDogodek je brezplačen\, prostovoljni prispevki za nastopajoče zelo zaželjeni. \nPoslušalnica: \nONYON\nDrhal
URL:https://akcnama.org/program/koncert-onyon-drhal/
CATEGORIES:Godba
ATTACH;FMTTYPE=image/jpeg:https://akcnama.org/wp-content/uploads/2025/08/onyon.jpg
END:VEVENT
BEGIN:VEVENT
DTSTART;TZID=Europe/Ljubljana:20251018T200000
DTEND;TZID=Europe/Ljubljana:20251018T230000
DTSTAMP:20260421T125715
CREATED:20250916T115700Z
LAST-MODIFIED:20250916T115901Z
UID:23124-1760817600-1760828400@akcnama.org
SUMMARY:Clockwork Voltage - Roaming Festival 2025 - Škofja Loka
DESCRIPTION:Oktober bo vibriral na frekvenci prihodnosti! Clockwork Voltage Roaming Festival se odklaplja iz rutine in priklaplja na klubske prostore po vsej Sloveniji. En mesec\, ena potujoča električna karavana zvoka – od surovega techna do filmskih zvočnih pokrajin\, od glitch eksplozij do popolne improvizacije. To ni še en festival. To je roaming – vsaka postaja nova zgodba\, vsak oder drugačna dimenzija. Modularni sintetizatorji oživijo kot bitja iz prihodnosti\, stroji prevzamejo besedo in glasba postane ritual\, ki ga doživiš samo enkrat. \nŠtartamo 1. oktobra v Kinu Šiška kjer gostimo prijatelje iz italjanske skupnosti Bologna Modulare. Sledi clubbing v ljubljanskem Channel Zeru\, kjer festival odpre vrata z nočjo klubskega ognja\, ter v Osmo/za\, kjer bo potekala delavnica Patch from Scratch. Val zvoka se nato razlije proti morju – 10. oktobra v koprski Bastion\, nadaljuje pa 11. oktobra v velenjskem eMCe-ju. 18. oktobra zavzame AKC Nama v Škofji Loki\, kjer se odvije tudi delavnica in konec meseca\, 24. oktobra\, doseže svoj vrhunec v sodelovanju z mariborskim kolektivom Vakum. Pripravi se na oktobrsko potovanje\, kjer boš odkrival zvočne horizonte\, za katere nisi vedel\, da obstajajo. Clockwork Voltage Roaming Festival 2025 – glasba\, ki potuje\, da jo lahko doživiš. \nClockwork Voltage Roaming Festival 2025 – glasba prihodnosti\, tukaj in zdaj.
URL:https://akcnama.org/program/clockwork-voltage-roaming-festival-2025-skofja-loka/
CATEGORIES:Godba,Performans
ATTACH;FMTTYPE=image/jpeg:https://akcnama.org/wp-content/uploads/2025/09/CVNama.jpg
END:VEVENT
BEGIN:VEVENT
DTSTART;TZID=Europe/Ljubljana:20251025T200000
DTEND;TZID=Europe/Ljubljana:20251025T230000
DTSTAMP:20260421T125715
CREATED:20250917T095801Z
LAST-MODIFIED:20250917T123227Z
UID:23134-1761422400-1761433200@akcnama.org
SUMMARY:Pokalica: pinkepanke + Cruzeiro + CarlxJohnson + Golcar
DESCRIPTION:pinkepanke so žlinta hardcore punk bend iz K(r)amnika\, ki od konca leta 2023 pušča sledi po domači in tuji sceni. Kritično\, kaotično\, brez dlake na jeziku in povsem samosvoje v pristopu. \nCruzeiro je galicijski stoner doom kvartet\, ki s svojo zvočno podobo nebo barva v svinčeno sivo. To ni doom kot poza\, to je doom kot prvinska sila. \nCarlxJohnson je štiričlanska zasedba iz Kontejnrja\, ki preigrava powerviolence/hardcore in slavi kultni GTA:San Andreas. Brezkompromisno\, udarno\, prekratko. \nGolcar je svež kranjski trio\, ki prisega na hardcore metal z beatdown vplivi. \nPoslušalnica: \npinkepanke\nCruzeiro\nCarlxJohnson\nGolcar
URL:https://akcnama.org/program/pokalica-pinkepanke-cruzeiro-carlxjohnson-golcar/
CATEGORIES:Godba
ATTACH;FMTTYPE=image/jpeg:https://akcnama.org/wp-content/uploads/2025/09/unnamed-11.jpg
END:VEVENT
BEGIN:VEVENT
DTSTART;TZID=Europe/Ljubljana:20251027T200000
DTEND;TZID=Europe/Ljubljana:20251027T230000
DTSTAMP:20260421T125715
CREATED:20250917T102643Z
LAST-MODIFIED:20250917T104012Z
UID:23139-1761595200-1761606000@akcnama.org
SUMMARY:Koncert: Greynbownes
DESCRIPTION:Greynbownes je češka zasedba na sledi puščavskemu rocku\, prežete s temačnimi blueserskimi vplivi. V zadnjih desetih letih so Greynbownes prepotovali številne evropske države\, prevozili na tisoče kilometrov\, odigrali stotine koncertov in izdali dva albuma “Grey rainbow from bones” (2018) ter “Bones and Flowers” (2021)\, ki sta bila še posebej v tujini deležna pozitivnih kritik. Za ljubitelje zasedb kot so All Them Witches\, Pontiak in Queens of the Stone Age. \nPoslušalnica: \nGreynbownes
URL:https://akcnama.org/program/koncert-greynbownes/
CATEGORIES:Godba
ATTACH;FMTTYPE=image/jpeg:https://akcnama.org/wp-content/uploads/2025/09/ba03cefc-c2d9-4210-ac24-cf7ed45c3188.jpeg
END:VEVENT
END:VCALENDAR