BEGIN:VCALENDAR
VERSION:2.0
PRODID:-//AKC Nama - ECPv6.14.2//NONSGML v1.0//EN
CALSCALE:GREGORIAN
METHOD:PUBLISH
X-ORIGINAL-URL:https://akcnama.org
X-WR-CALDESC:Dogodki za AKC Nama
REFRESH-INTERVAL;VALUE=DURATION:PT1H
X-Robots-Tag:noindex
X-PUBLISHED-TTL:PT1H
BEGIN:VTIMEZONE
TZID:Europe/Ljubljana
BEGIN:DAYLIGHT
TZOFFSETFROM:+0100
TZOFFSETTO:+0200
TZNAME:CEST
DTSTART:20250330T010000
END:DAYLIGHT
BEGIN:STANDARD
TZOFFSETFROM:+0200
TZOFFSETTO:+0100
TZNAME:CET
DTSTART:20251026T010000
END:STANDARD
END:VTIMEZONE
BEGIN:VEVENT
DTSTART;TZID=Europe/Ljubljana:20250927T190000
DTEND;TZID=Europe/Ljubljana:20250927T190000
DTSTAMP:20260421T144113
CREATED:20250819T100936Z
LAST-MODIFIED:20251110T095522Z
UID:23074-1758999600-1758999600@akcnama.org
SUMMARY:Bioskop:  V mojih sanjah rase vsako noč drevo
DESCRIPTION:Poetični dokumentarni mozaik odročne pokrajine in njenih ljudi. Skozi prepletanje individualnega in kolektivnega film premišljuje o sočasnem obstoju različnih\, a v Halozah skupaj vtisnjenih spominov. Film je prejel vesno za najboljši dokumentarec na zadnjem festivalu v Portorožu. \nVid Hajnšek (rojen 1991\, Maribor) je magister filmske režije\, ki je svoj filmski izraz našel v dokumentarnem filmu. Njegov magistrski film “Konec” je prejel priznanje Franceta Brenka\, debitiral pa je s celovečernim dokumentarnim filmom o argentinski pisateljici slovenskih korenin Alejandri Laurencich\, z naslovom Alejandra (režija: Klemen Brvar in Vid Hajnšek). V času študija je kot pomočnik režije sodeloval pri različnih študijskih igranih filmih\, televizijskih dramah in gledaliških produkcijah\, izven študija pa je kot pomočnik režije sodeloval pri filmu Oroslan (režija: Matjaž Ivanišin)\, kot igralec pa v filmu Igram\, sem (režija: Miroslav Mandić). \nPogovor z režiserjem vodi Lucija Rupar. \nTrailer je dostopen tu. \nPo ogledu filma sledi debata v okviru Filmskega kluba\, ki ga sofinancira Občina Škofja Loka.
URL:https://akcnama.org/program/bioskop-v-mojih-sanjah-rase-vsako-noc-drevo/
CATEGORIES:Bioskop
ATTACH;FMTTYPE=image/jpeg:https://akcnama.org/wp-content/uploads/2025/08/projekcija.jpg
END:VEVENT
END:VCALENDAR