BEGIN:VCALENDAR
VERSION:2.0
PRODID:-//AKC Nama - ECPv6.14.2//NONSGML v1.0//EN
CALSCALE:GREGORIAN
METHOD:PUBLISH
X-WR-CALNAME:AKC Nama
X-ORIGINAL-URL:https://akcnama.org
X-WR-CALDESC:Dogodki za AKC Nama
REFRESH-INTERVAL;VALUE=DURATION:PT1H
X-Robots-Tag:noindex
X-PUBLISHED-TTL:PT1H
BEGIN:VTIMEZONE
TZID:Europe/Ljubljana
BEGIN:DAYLIGHT
TZOFFSETFROM:+0100
TZOFFSETTO:+0200
TZNAME:CEST
DTSTART:20250330T010000
END:DAYLIGHT
BEGIN:STANDARD
TZOFFSETFROM:+0200
TZOFFSETTO:+0100
TZNAME:CET
DTSTART:20251026T010000
END:STANDARD
END:VTIMEZONE
BEGIN:VEVENT
DTSTART;TZID=Europe/Ljubljana:20250502T200000
DTEND;TZID=Europe/Ljubljana:20250502T200000
DTSTAMP:20260421T204220
CREATED:20250417T120104Z
LAST-MODIFIED:20250417T143455Z
UID:22901-1746216000-1746216000@akcnama.org
SUMMARY:Bioskop: Špelin svet animiranih podob
DESCRIPTION:Opus animiranih filmov Špele Čadež pomeni vrhunec preporoda slovenskega avtorskega animiranega filma in oživlja plemenito tradicijo animacije lutk\, s katero se je slovenski animirani film tudi začel. Tej tradiciji v svojih glavnih dosežkih\, ki pričajo tudi o njenem skokovitem razvoju in tehničnem mojstrstvu\, avtorica vdahne sodobnega duha\, bogatega z ironijo\, pogosto mračnim humorjem in tudi senzibilnostjo za druge avantgardne in umetniške tradicije. S svojima zadnjima festivalskima uspešnicama – Nočna ptica in Steakhouse – od lutkovne animacije mojstrsko preide k multiplan kolažni animacijski tehniki. \n— Igor Prassel \nSPORED: \nLjubezen je bolezen (Liebeskrank)\nŠpela Čadež\, Nemčija/Slovenija\, 2007 \nBolečine v prsih\, solze\, ki ne ponehajo\, in narobe obrnjene glave so simptomi pogoste\, a težko ozdravljive bolezni. \nZasukanec\nŠpela Čadež\, Nemčija/Slovenija\, 2004 \nVsakdanjik v krojačnici je lahko tako živahen\, da je včasih potrebno improvizirati\, vendar takrat fantazija in spontanost nista vedno rešitev. Ko je krojaček sam\, rad opravlja delo s pomočjo svojih misli. Toda kaj se zgodi\, ko v igro stopi ljubezen in misli uidejo nadzoru? \nZadnja minuta (Last Minute)\nŠpela Čadež\, Marina Rosset\, Slovenija/Nemčija\, 2010 \nKreda lovi senco. Ko jo ulovi\, vidimo samo še sledi njune igre. \nBoles\nŠpela Čadež\, Slovenija/Nemčija\, 2013 \nNekega dne na Filipova vrata potrka prostitutka Tereza in ga prosi\, naj ji napiše ljubezensko pismo za njenega fanta Bolesa. Čez dva tedna se vrne s prošnjo\, naj ji napiše še eno ljubezensko pismo\, tokrat v imenu Bolesa in namenjeno njej. Tako Filip ugotovi\, da Boles sploh ne obstaja … \nNočna ptica (Nighthawk)\nŠpela Čadež\, Slovenija/Hrvaška\, 2016 \nJazbec obleži na lokalni cesti v gozdu. V mraku se mu približa policijska patrulja. Policisti med postopkom ugotovijo\, da žival ni mrtva\, kakor so bili obveščeni\, temveč najedena prezrelih hrušk. Ko hočejo policisti obnemogleža spraviti na rob ceste\, se ta prebudi in dogajanje popelje v nenavadno smer … \nOranžna je nova črna – Na kratko\nŠpela Čadež Država: Slovenija/VB/Singapur\, 2017 \nAnimirani povzetek štirih sezon serije Oranžna je nova črna. \nSteakhouse\nŠpela Čadež\, Slovenija/Nemčija/Francija\, 2021 \nZrezek že več dni leži v marinadi. Ponev je vroča. Franc je ravno prav lačen\, Lizo pa so v službi presenetili z rojstnodnevno zabavo. Ji bo uspelo pravočasno priti domov? \nProjekcijo nam omogoča DSAF.
URL:https://akcnama.org/program/bioskop-spelin-svet-animiranih-podob/
CATEGORIES:Bioskop
ATTACH;FMTTYPE=image/jpeg:https://akcnama.org/wp-content/uploads/2025/04/spelin-svet-fb4-1.jpg
END:VEVENT
END:VCALENDAR