BEGIN:VCALENDAR
VERSION:2.0
PRODID:-//AKC Nama - ECPv6.14.2//NONSGML v1.0//EN
CALSCALE:GREGORIAN
METHOD:PUBLISH
X-WR-CALNAME:AKC Nama
X-ORIGINAL-URL:https://akcnama.org
X-WR-CALDESC:Dogodki za AKC Nama
REFRESH-INTERVAL;VALUE=DURATION:PT1H
X-Robots-Tag:noindex
X-PUBLISHED-TTL:PT1H
BEGIN:VTIMEZONE
TZID:Europe/Ljubljana
BEGIN:DAYLIGHT
TZOFFSETFROM:+0100
TZOFFSETTO:+0200
TZNAME:CEST
DTSTART:20250330T010000
END:DAYLIGHT
BEGIN:STANDARD
TZOFFSETFROM:+0200
TZOFFSETTO:+0100
TZNAME:CET
DTSTART:20251026T010000
END:STANDARD
END:VTIMEZONE
BEGIN:VEVENT
DTSTART;TZID=Europe/Ljubljana:20250411T200000
DTEND;TZID=Europe/Ljubljana:20250411T200000
DTSTAMP:20260421T222732
CREATED:20250324T065700Z
LAST-MODIFIED:20250324T070113Z
UID:22867-1744401600-1744401600@akcnama.org
SUMMARY:Bioskop: That's What She Said vol.2 / drzni animirani filmi režiserk iz srednje in vzhodne Evrope
DESCRIPTION:Program združuje vizualno osupljive animacije sodobnih ustvarjalk iz srednje in vzhodne Evrope. Med sanjskimi pokrajinami\, družbenimi komentarji in fantazijskimi alegorijami se razpirajo zgodbe o osamljenosti\, transformaciji in notranjih bojih. Avtorice z drzno umetniško izraznostjo brišejo meje med resničnostjo in iluzijo ter nas vabijo v svetove\, v katerih vsaka podoba nosi globlji pomen. \n\n\n\nSPORED: \n\n\n\n\n\nVstop prepovedan Keep Out\nChan Tan Lui\, Češka\, 2023\, 8′08′′ \nPosamezniki živijo v utesnjenih izoliranih sobah\, zaščiteni pred nevarnostmi zunanjega sveta. Preživljajo se s pretočnimi videovsebinami in se v virtualnem okolju povezujejo z drugimi. Nekega usodnega dne pa debelušen fant nepričakovano izve skrivnost. \n\n\n\n\nUmrla sem v Irpinu I died in Irpin\nAnastasiia Falileieva\, Češka\, Slovaška\, Ukrajina\, 2024\, 11′30′′ \n24. februarja zjutraj sva se s fantom odpravila iz Kijeva v Irpin obiskat njegove starše. Težko prikličem nazaj kronologijo tistih dni\, možgani mi blokirajo vse te spomine\, zmanjšujejo njihov pomen in jih brišejo\, a vsaj o nečem sem prepričana: razmere so se vsak dan slabšale iz minute v minuto. \n\n\n\n\nMetulj Leptir\nSunčana Brkulj\, Hrvaška\, Danska\, 2024\, 8′07′′ \nSkupnost vrtnih bitij živi ob vodnjaku\, iz katerega se vsi napajajo in hkrati prispevajo k toku življenja. Ko se v vodnjaku zagozdi metulj\, se zato znajdejo v povsem nepoznanih okoliščinah. \n\n\n\n\nMenjavanje sanj Dream Rotation\nKatarína Jelínková\, Darya Sidorova\, Viktória Zimmermannová\, Rebeka Vakrčková\, Slovaška\, 2023\, 9′ \nIzgubljena duša se ponoči prebija skozi goščavo gozda. Brezciljno tava\, dokler ne naleti na skupino sebi podobnih\, ki sedijo ob ognju. Noč in ogenj sta jih osvobodila in zdaj so vsi pripravljeni deliti vsak svojo zgodbo\, ki ga je pripeljala v ta gozd. \n\n\n\n\nTaki čudeži se dogajajo Takie cuda się zdarzają\nBarbara Rupik\, Poljska\, 2023\, 14′ \nIzviren\, globok in vizualno drzen lutkovni film\, v katerem vsi kipi v okolici oživijo\, zapustijo svoja obcestna svetišča in podstavke ter mirno odkorakajo naravnost naprej\, vsi v isti smeri. Ljudje s strahom opazujejo ta nenavadni pojav. Le majhna deklica z brezkostnim telesom očarana spremlja procesijo nenavadnih figur. \n\n\n\n\nTri tičice\nZarja Menart\, Slovenija\, Hrvaška\, 2024\, 8′18′′ \nModra ptičja žena pošlje tri ptice\, da vodijo dekle v temne\, neznane pokrajine njenega notranjega sveta. Avtorica v svojem prvencu poda intimno interpretacijo ljudske pesmi Tri tičice o treh pticah\, ki iz daljnih dežel prek morja prinašajo darove in blagoslove. \n\n\n\n\nČevlji in kopita Cipők és paták\nViktória Traub\, Madžarska\, 2024\, 14′58′′ \nKentaverka Paula\, pedikerka v majhnem mestu\, si neznansko želi imeti človeška stopala. Ko spozna krokodiljega moža Arnolda\, se zaljubi na prvi pogled. Bo zmogla stopiti na pot iskanja svoje identitete? Kakšna bo cena njenih poskusov\, da bi se zlila z okolico in se odrekla svojemu pravemu jazu? \n\n\n\n\nProjekcijo nam omogoča Distribucija Animateka.
URL:https://akcnama.org/program/bioskop-thatswhatshesaidvol2/
CATEGORIES:Bioskop
ATTACH;FMTTYPE=image/jpeg:https://akcnama.org/wp-content/uploads/2025/03/THATS-WHAT-SHE-SAID-VOL2-FB4.jpg
END:VEVENT
BEGIN:VEVENT
DTSTART;TZID=Europe/Ljubljana:20250425T190000
DTEND;TZID=Europe/Ljubljana:20250425T190000
DTSTAMP:20260421T222732
CREATED:20250324T073132Z
LAST-MODIFIED:20250331T063634Z
UID:22887-1745607600-1745607600@akcnama.org
SUMMARY:Bioskop: (I)zbrana dela Filipa Jembriha
DESCRIPTION:Spored: \nFabula\nkratki igrani film 9′ 40”\n2019\, Slovenija \nZgodba temelji na slovenskem mitu o Zlatorogu. Sledimo potomki izgnane vile na poti vrnitve v dolino reke Soče. Pot jo popelje skozi dva svetova; čarobnega in človeškega. Ko napreduje po poti\, postaja klic narave močnejši in jo pripelje do dveh starih vil\, ki jo čakata. Skupaj izvedejo obred in tri vile so ponovno združene. \nRodna gruda\nkratki dokumentarni film 13′ 48”\n2021\, Slovenija \nV objemu globokega podeželja se Lidija\, mlado dekle na prehodu med osnovno in srednjo šolo\, sprašuje o odnosu do svojih staršev\, bratov ter rojstnega kraja\, ki ga bo kmalu zapustila in se podala v mestno življenje. Skozi drobne utrinke svojega vsakdanjika ponudi presunljiv prerez svojega mladostniškega življenja\, ki je v majhni vasi brez pravih vrstnikov precej osamljeno. \nDaljne njive\nkratki igrani film 16′ 40”\ndrama\, družinski\, komedija\n2023\, Slovenija \nJean\, mlad francoski huligan\, mora na prisilne počitnice k svojemu dedku Evaldu\, ki živi na slovenskem podeželju. Kljub Evaldovi topli dobrodošlici Jean ostaja precej zaprt vase\, z dedkom govori zgolj francosko in hladno zavrača njegov način življenja\, ki je posvečen predvsem skrbi za sadovnjak ter prodaji jabolk na lokalni tržnici. \nO avtorju: \nFilip Jembrih (1997) je obetaven filmski ustvarjalec\, prepoznaven po svojem značilnem pristopu k vizualnem pripovedovanju zgodb. Na AGRFT je bil sprejet s kratkim filmom “Fabula” (2019)\, ki je adaptacija starega slovenskega mita o Zlatorogu. Film je bil prikazan na več mednarodnih filmskih festivalih\, vključno s festivalom Kranjska Gora International Film Festival (KGIFF) in festivalom Fiorenzo Serra Film Festival na Sardiniji. Med študijem na AGRFT-ju je režiral pet kratkih filmov: “Poletje na Chengdujski 19.” (2020)\, “Slutnja” (2020)\, “Najina življenja” (2020)\, “Rodna gruda” (2021) in “Daljne njive” (2022). Njegova dela so bila prikazana na več kot šestdesetih mednarodnih filmskih festivalih. Leta 2023 je sodeloval na delavnici “Belgrade March Debut Workshop” in v programu “Sarajevo Talents 2023”\, kjer je razvijal svoje veščine pod mentorstvom mednarodnega filmskega pedagoga Gyule Gazdaga. Njegov najnovejši film “Dobrodošli doma” je razvil s pomočjo “Midpoint Instituta” v Češki republiki in je za realizacijo leta 2024 prejel financiranje s strani Slovenskega in Hrvaškega filmskega centra. Pred kratkim je posnel igrano otroško televizijsko serijo “Smrdljivc”\, prvo v Sloveniji po šestnajstih letih\, ki bo na nacionalni televiziji predvajana jeseni 2025. \n 
URL:https://akcnama.org/program/bioskop-izbrana-dela-filipa-jembriha/
CATEGORIES:Bioskop
ATTACH;FMTTYPE=image/jpeg:https://akcnama.org/wp-content/uploads/2025/03/FILIPJEMBRIHSLOVENIA.jpg
END:VEVENT
END:VCALENDAR