BEGIN:VCALENDAR
VERSION:2.0
PRODID:-//AKC Nama - ECPv6.14.2//NONSGML v1.0//EN
CALSCALE:GREGORIAN
METHOD:PUBLISH
X-WR-CALNAME:AKC Nama
X-ORIGINAL-URL:https://akcnama.org
X-WR-CALDESC:Dogodki za AKC Nama
REFRESH-INTERVAL;VALUE=DURATION:PT1H
X-Robots-Tag:noindex
X-PUBLISHED-TTL:PT1H
BEGIN:VTIMEZONE
TZID:Europe/Ljubljana
BEGIN:DAYLIGHT
TZOFFSETFROM:+0100
TZOFFSETTO:+0200
TZNAME:CEST
DTSTART:20250330T010000
END:DAYLIGHT
BEGIN:STANDARD
TZOFFSETFROM:+0200
TZOFFSETTO:+0100
TZNAME:CET
DTSTART:20251026T010000
END:STANDARD
END:VTIMEZONE
BEGIN:VEVENT
DTSTART;TZID=Europe/Ljubljana:20250117T190000
DTEND;TZID=Europe/Ljubljana:20250117T190000
DTSTAMP:20260422T025635
CREATED:20250103T100009Z
LAST-MODIFIED:20250104T125519Z
UID:22701-1737140400-1737140400@akcnama.org
SUMMARY:Bioskop: Slovenski kratki animirani #2
DESCRIPTION:Projekcijo nam omogoča DSAF – društvo slovenskega animiranega filma. \nMaček med vrati\nAna Čigon\, Slovenija\, Hrvaška\, 2024\nMačja satira skozi vsakdanje peripetije sosedov zrcali pereča evropska politična vprašanja. \nO denarju in sreči\nNikola Majdak Jr.\, Ana Nedeljković\, Srbija\, Slovenija\, Slovaška\, 2022\nHrčeklandija je popolna država s popolnim gospodarstvom\, BDP neprestano raste\, nezaposlenost ne obstaja\, vsi prebivalci so srečni. A seveda ima to tudi temno plat. \nOnkraj obraza\nAnja Resman\, Slovenija\, Hrvaška\, 2024\nMladenič pospravlja stanovanje\, v katerem je živel njegov nedavno preminuli oče. Ob tem podoživlja travmatične spomine na odraščanje in čas\, v katerem je izgubil dušo. \nTri tičice\nZarja Menart\, Slovenija\, Hrvaška\, 2024\nTri ptice vodijo dekle v pokrajine njenega notranjega sveta. \nBorbike\nNika Jurman\, Slovenija\, 2022\nAmbiciozna\, a malce lena vaška fotografinja skuša preživeti v velikem mestu. Da bi zaslužila nekaj denarja in morda zasijala v prestižni družbi\, se odpravi na zabavo. Ob srečanju z obiskovalci zabave sklene svoje življenje korenito spremeniti. Ji bo uspelo\, ne da bi ob tem koga ubila? \nWanted\nBoris Dolenc\, Slovenija\, 2012\nAnimirani vestern združi tradicionalno slovensko podeželje in Divji zahod.
URL:https://akcnama.org/program/bioskop-slovenski-kratki-animirani-izbor-mladih-talentov-ter-uveljavljenih-avtorjev_ic-2/
CATEGORIES:Bioskop
ATTACH;FMTTYPE=image/jpeg:https://akcnama.org/wp-content/uploads/2025/01/Animacijeee.jpg
END:VEVENT
BEGIN:VEVENT
DTSTART;TZID=Europe/Ljubljana:20250124T190000
DTEND;TZID=Europe/Ljubljana:20250124T190000
DTSTAMP:20260422T025635
CREATED:20250103T095321Z
LAST-MODIFIED:20251110T095306Z
UID:22702-1737745200-1737745200@akcnama.org
SUMMARY:Bioskop: Gram srca + Pogovor: Jan Cvitkovič
DESCRIPTION:Gram srca (Jan Cvitkovič\, 2025)\ndokumentarni film\, Slovenija\, 2025\, 61 min.\, 15 + \nUstvarjalci filma so vstopili v svet odvisnosti in na ulicah Ljubljane spremljali odvisnike\, ki so v intervjujih izpovedali lastno doživljanje škodljivih posledic uporabe drog\, kot so: izguba doma\, razbite in uničene družine\, odvzemi otrok\, prostitucija\, okužbe s HIV\, fizično nasilje\, alkoholizem itd. Dokumentarni film o ljubljanskih odvisnikih polni dvorane\, ruši predsodke\, sproža strastne debate. Ko spregovori o pošastnem razkroju. In je krut\, a hkrati lep. Po ogledu filma sledi pogovor z režiserjem Janom Cvitkovičem\, ki ga vodi Petra Čičić. \nMnenja: \n»Presunljivo je strašno preblaga beseda. Kakšni globoki detajli\, teksti\, muzika\, fotografija. Vse naju boli od tvojega filma. Nekatere od njih sva srečevala na Kongresnem trgu\, ko sva še tam stanovala. Hvala ti za še en presežek.«\n– Ksenija Benedetti\, Boris Cavazza \n»Globoko ganljiv dokumentarec\, ki surovo in iskreno pokaže težo odvisnosti. Še posebej te zadene\, če si sam kdaj občutil to resničnost v družini – pomaga razumeti\, sočutiti in videti človeka za odvisnostjo.«\n– Danijel Toplak\, gledalec \n»Brutalno iskren dokumentarni film Gram srca Jana Cvitkoviča gledalca popelje neposredno v srce mračnega sveta odvisnosti.«\n– Petra Vidrih\, Primorske novice \n»Ta film o narkomanski sceni je v bistvu ljubezenski film. Ljubezen ne sodi in ne obsoja. Ta film mi to potrjuje in me opominja\, naj ne sodim in obsojam nikogar. Nihče ni kriv.«\n– Drago Milinović\, igralec \nNapovednik: \nGram srca \nPo ogledu filma sledi debata v okviru Filmskega kluba\, ki ga sofinancira Občina Škofja Loka.
URL:https://akcnama.org/program/bioskop-gram-srca-pogovor-jan-cvitkovic/
CATEGORIES:Bioskop
ATTACH;FMTTYPE=image/jpeg:https://akcnama.org/wp-content/uploads/2025/01/Sajtic.jpg
END:VEVENT
END:VCALENDAR