BEGIN:VCALENDAR
VERSION:2.0
PRODID:-//AKC Nama - ECPv6.14.2//NONSGML v1.0//EN
CALSCALE:GREGORIAN
METHOD:PUBLISH
X-ORIGINAL-URL:https://akcnama.org
X-WR-CALDESC:Dogodki za AKC Nama
REFRESH-INTERVAL;VALUE=DURATION:PT1H
X-Robots-Tag:noindex
X-PUBLISHED-TTL:PT1H
BEGIN:VTIMEZONE
TZID:Europe/Ljubljana
BEGIN:DAYLIGHT
TZOFFSETFROM:+0100
TZOFFSETTO:+0200
TZNAME:CEST
DTSTART:20240331T010000
END:DAYLIGHT
BEGIN:STANDARD
TZOFFSETFROM:+0200
TZOFFSETTO:+0100
TZNAME:CET
DTSTART:20241027T010000
END:STANDARD
END:VTIMEZONE
BEGIN:VEVENT
DTSTART;TZID=Europe/Ljubljana:20241220T190000
DTEND;TZID=Europe/Ljubljana:20241220T190000
DTSTAMP:20260422T043014
CREATED:20241129T085818Z
LAST-MODIFIED:20241219T082009Z
UID:22652-1734721200-1734721200@akcnama.org
SUMMARY:Bioskop: Slovenski kratki animirani (izbor mladih talentov ter uveljavljenih avtorjev_ic)
DESCRIPTION:Projekcijo nam omogoča DSAF – društvo slovenskega animiranega filma. \nCelica\nRežija: Dušan Kastelic\nDržava: Slovenija\nLeto: 2017 \nKurent\nRežija: Miha Reja\nDržava: Slovenija\nLeto: 2021 \nLegenda o Zlatorogu\nRežija: Lea Vučko\nDržava: Slovenija\nLeto: 2022 \nLuknje\nRežija: Sofiya Kruglikova\nDržava: Slovenija\nLeto: 2022 \nSteakhouse\nRežija: Špela Čadež\nDržava: Slovenija\nLeto: 2021 \nBabičino seksualno življenje\nRežija: Urška Djukić\, Émilie Pigeard\nDržava: Slovenija\, Francija\nLeto: 2021 \nSamo dihaj\nRežija: Anej Golčar\nDržava: VB\nLeto: 2023 \nPentola\nRežija: Leo Černic\nDržava: Italija\nLeto: 2022
URL:https://akcnama.org/program/bioskop-slovenski-kratki-animirani-izbor-mladih-talentov-ter-uveljavljenih-avtorjev_ic/
CATEGORIES:Bioskop
ATTACH;FMTTYPE=image/jpeg:https://akcnama.org/wp-content/uploads/2024/11/Animiranke.jpg
END:VEVENT
END:VCALENDAR